BEGIN:VCALENDAR
VERSION:2.0
PRODID:-//Imkerverein Herford - ECPv6.15.20//NONSGML v1.0//EN
CALSCALE:GREGORIAN
METHOD:PUBLISH
X-WR-CALNAME:Imkerverein Herford
X-ORIGINAL-URL:https://iv-hf.de
X-WR-CALDESC:Veranstaltungen für Imkerverein Herford
REFRESH-INTERVAL;VALUE=DURATION:PT1H
X-Robots-Tag:noindex
X-PUBLISHED-TTL:PT1H
BEGIN:VTIMEZONE
TZID:Europe/Berlin
BEGIN:DAYLIGHT
TZOFFSETFROM:+0100
TZOFFSETTO:+0200
TZNAME:CEST
DTSTART:20250330T010000
END:DAYLIGHT
BEGIN:STANDARD
TZOFFSETFROM:+0200
TZOFFSETTO:+0100
TZNAME:CET
DTSTART:20251026T010000
END:STANDARD
BEGIN:DAYLIGHT
TZOFFSETFROM:+0100
TZOFFSETTO:+0200
TZNAME:CEST
DTSTART:20260329T010000
END:DAYLIGHT
BEGIN:STANDARD
TZOFFSETFROM:+0200
TZOFFSETTO:+0100
TZNAME:CET
DTSTART:20261025T010000
END:STANDARD
BEGIN:DAYLIGHT
TZOFFSETFROM:+0100
TZOFFSETTO:+0200
TZNAME:CEST
DTSTART:20270328T010000
END:DAYLIGHT
BEGIN:STANDARD
TZOFFSETFROM:+0200
TZOFFSETTO:+0100
TZNAME:CET
DTSTART:20271031T010000
END:STANDARD
END:VTIMEZONE
BEGIN:VEVENT
DTSTART;TZID=Europe/Berlin:20260501T103000
DTEND;TZID=Europe/Berlin:20260501T170000
DTSTAMP:20260425T170056
CREATED:20260420T190626Z
LAST-MODIFIED:20260420T193516Z
UID:779-1777631400-1777654800@iv-hf.de
SUMMARY:1. Mai-Treffen des Imkervereins Herford - Tradition trifft Tracht
DESCRIPTION:Hallo liebe Imkerkollegen\, \nDie Kirschblüte steht in den Startlöchern\, die Drohnenrahmen sind gesetzt und die Völker gehen in die volle Entwicklung – es ist Zeit für unseren traditionellen Maigang! Der Imkerverein Herford lädt alle Mitglieder\, Bienenfreunde und Interessierten herzlich zu unserem jährlichen Treffen am 1. Mai ein. \nDer Mai ist für uns Imker der spannendste Monat des Jahres. Alles summt\, die Schwarmstimmung steigt und die Vorfreude auf die erste Honigernte ist greifbar. Umso wichtiger ist es\, dass wir uns kurz Zeit nehmen\, um gemeinsam durchzuatmen\, Erfahrungen auszutauschen und uns auf die intensive Phase des Bienenjahres einzustimmen. \nDas traditionelle 1.-Mai-Treffen findet dieses Jahr wieder im und am Backhaus statt. Matthias hat dort einen seiner Bienenstände. Der Beginn ist ca. um 10:30 Uhr. Falls es regnen sollte\, können wir in ein kleines Backhaus ausweichen. Mitglieder\, deren Familien und Interessierte sind herzlich willkommen. Für Würstchen und Pacht wird gegen eine kleine Spende gesorgt. Getränke\, Salat\, Baguette\, Dips\, Kuchen oder Ähnliches können gerne wie gewohnt mitgebracht werden. \nWenn das Wetter es zulässt\, werden wir die Bienen durchschauen und die ersten Ableger bilden. \ngenaue Adresse bitte bei Rainer Rockstroh\, +49 152 33 98 16 10 erfragen oder in der WhatsApp-Gruppe schauen. \nDas Herzstück der Location? Ein historisches Backhaus\, das normalerweise als gemütlicher Rückzugsort dient. \nVernetzung über den Stockrand hinaus\nEin Imker ist selten gern allein – zumindest nicht\, wenn es um den Austausch von Erfahrungen geht. Getreu dem Motto „Man kennt sich\, man hilft sich“ lädt der Imkerverein Herford seit einigen Jahren gezielt einen Nachbarverein ein. Es ist dieser Blick über den eigenen Tellerrand (oder Bienenstock)\, der unsere Gemeinschaft so stark macht. \n \n„Imkerliche Gemeinschaft unter blauem Himmel: Fachsimpelei und gute Stimmung sind das Fundament unserer Arbeit.“ \n\nAktuelle Lageberichte: Wie sind die Völker in Herford durch das Frühjahr gekommen?\nSchwarm-Talk: Tipps und Tricks zur Schwarmverhinderung in den kommenden Wochen.\nGeselliges Beisammensein: Fachsimpeln bei Kaltgetränken und kleinen Stärkungen.\n\n\n\nDas Rezept für einen perfekten Imker-Tag\nWas macht ein Vereinstreffen wirklich erfolgreich? In Herford setzt man auf eine Mischung aus gelebter Regionalität und fachlicher Tiefe: \n\nPicknick-Style mit Herz: Das Buffet war ein Gemeinschaftswerk. Von knackigen\, selbstgemachten Salaten bis hin zu frischem Baguette – jeder bringt seine Spezialität mit.\nBio-Genuss vom Erzeuger: Passend zu unserer naturnahen Arbeit stammt das Grillgut direkt vom lokalen Bio-Bauern des Vertrauens. Qualität\, die man schmeckt.\nLive am Volk: Die „Hauptdarstellerinnen“ dürfen natürlich nicht fehlen. Bei der Standbegehung öffnet Matthias seine Beuten und erklärt seine Betriebsweise direkt am lebenden Objekt. Ein Moment\, in dem auch erfahrene Imker immer noch etwas Neues entdecken können.\n\n\nFazit: Öffentlichkeitsarbeit\, die verbindet\nDer 1. Mai in Herford hat gezeigt\, wie moderne Vereinsarbeit an der Basis funktioniert. Es geht um mehr als nur Verwaltung – es geht um Gemeinschaft\, gute Laune und den Schutz unserer Bienen. Wer die Leidenschaft teilt\, findet hier nicht nur Kollegen\, sondern Freunde. \nWie verbringt Ihr Verein traditionelle Feiertage? Setzt Ihr auch auf den Austausch mit Nachbarvereinen? Schreibt uns eure Erfahrungen in die Kommentare oder teilt diesen Beitrag mit euren Imker-Kollegen!
URL:https://iv-hf.de/event/1te-mai-treffen/
CATEGORIES:Veranstaltung
ATTACH;FMTTYPE=image/jpeg:https://iv-hf.de/wp-content/uploads/2025/05/1.Maitreffen-10-1.jpg
ORGANIZER;CN="Imkerverein Herford":MAILTO:Rockstroh@iv-hf.de
END:VEVENT
END:VCALENDAR