BEGIN:VCALENDAR
VERSION:2.0
PRODID:-//Imkerverein Herford - ECPv6.15.20//NONSGML v1.0//EN
CALSCALE:GREGORIAN
METHOD:PUBLISH
X-ORIGINAL-URL:https://iv-hf.de
X-WR-CALDESC:Veranstaltungen für Imkerverein Herford
REFRESH-INTERVAL;VALUE=DURATION:PT1H
X-Robots-Tag:noindex
X-PUBLISHED-TTL:PT1H
BEGIN:VTIMEZONE
TZID:Europe/Berlin
BEGIN:DAYLIGHT
TZOFFSETFROM:+0100
TZOFFSETTO:+0200
TZNAME:CEST
DTSTART:20250330T010000
END:DAYLIGHT
BEGIN:STANDARD
TZOFFSETFROM:+0200
TZOFFSETTO:+0100
TZNAME:CET
DTSTART:20251026T010000
END:STANDARD
BEGIN:DAYLIGHT
TZOFFSETFROM:+0100
TZOFFSETTO:+0200
TZNAME:CEST
DTSTART:20260329T010000
END:DAYLIGHT
BEGIN:STANDARD
TZOFFSETFROM:+0200
TZOFFSETTO:+0100
TZNAME:CET
DTSTART:20261025T010000
END:STANDARD
BEGIN:DAYLIGHT
TZOFFSETFROM:+0100
TZOFFSETTO:+0200
TZNAME:CEST
DTSTART:20270328T010000
END:DAYLIGHT
BEGIN:STANDARD
TZOFFSETFROM:+0200
TZOFFSETTO:+0100
TZNAME:CET
DTSTART:20271031T010000
END:STANDARD
END:VTIMEZONE
BEGIN:VEVENT
DTSTART;TZID=Europe/Berlin:20260516T103000
DTEND;TZID=Europe/Berlin:20260516T170000
DTSTAMP:20260425T153520
CREATED:20260420T195359Z
LAST-MODIFIED:20260420T201113Z
UID:784-1778927400-1778950800@iv-hf.de
SUMMARY:API-Therapie - Tag der offenen Tür der Imkerei Möckel
DESCRIPTION:Alle Interessierten sind herzlich willkommen. \nGerne informieren wir Sie über \n\nAlle Fragen rund um Bienen\, Imkerei\, Honig und weitere Bienenprodukte sowie …\nApitherapie – die sanfte Heilkraft aus dem Bienenstock\nDie wohltuende Wirkung der Bienenstockluft-Inhalation\nVorteile eines Propolisverdampfers\nHonigmassagen\nUnd vieles mehr\n\nBienenprodukte \n\nHonig – als idealer Energiespender\, Wundheilung\, Balsam für den Darm\, Schonkost für die Leber\, Honigmassage\, Met\nBienenpollen – ein natürliches Anabolikum\nBienenbrot (Perga) – ein natürliches Anabolikum\nGelee Royale (Weiselfuttersaft) – ein wirkungsvolles Stärkungsmittel mit Einfluss auf die Hormondrüsen und den Hormonhaushalt\nApilarnil – ein Extrakt aus Drohnenlarven\, mit ähnlichen Eigenschaften wie Weiselfuttersaft\nPropolis (Kittharz) – ist ein natürliches Antibiotikum.\nBienengift – zur Behandlung rheumatischer Erkrankungen\nBienenwachs – für kosmetische Cremes\, Kerzen\nBienenstockluft zur Inhalation – für Groß und Klein\n\n 
URL:https://iv-hf.de/event/api-therapie-tag-der-offenen-tuer-der-imkerei-moeckel/
CATEGORIES:Veranstaltung
ATTACH;FMTTYPE=image/png:https://iv-hf.de/wp-content/uploads/2026/04/Bild1111.png
END:VEVENT
END:VCALENDAR